BEGIN:VCALENDAR
VERSION:2.0
PRODID:-//eventon.com NONSGML v1.0//EN
CALSCALE:GREGORIAN
METHOD:PUBLISH
BEGIN:VEVENT
UID:69e876c60ede1
DTSTAMP:20260422T072038Z
DTSTART:20230420T200000Z
DTEND:20230420T210000Z
LOCATION:
SUMMARY:Building a Culture of Inclusivity: Hiring\,  Supervision\,  and Culture
DESCRIPTION:Are you an environmental education leader\,  supervisor\,  or m
 anager charged with hiring and supervision of a team? Join HR expert\,  aut
 hor\,  and speaker\,  Rita Sever\,  of Supervision Matters\,  to explore ho
 w equity practices can influence hiring\,  recruitment and organizational c
 ulture. Following Rita&#8217;s presentation\,  participants will have the o
 pportunity to discuss[..]\nhttps://arkansasee.org/events/building-a-culture
 -of-inclusivity-hiring-supervision-and-culture/
URL:https://arkansasee.org/events/building-a-culture-of-inclusivity-hiring-supervision-and-culture/
END:VEVENT
END:VCALENDAR